BEGIN:VCALENDAR
VERSION:2.0
PRODID:-//Rotary Club of Cashiers Valley//NONSGML kigkonsult.se iCalcreator 2.41.92//
CALSCALE:GREGORIAN
METHOD:PUBLISH
UID:30326434-3864-4965-b262-633337333930
X-WR-CALNAME:iCagenda
X-WR-CALDESC:Event Management Extension for Joomla!
X-WR-RELCALID:3E26604A-50F4-4449-8B3E-E4F4932D05B5
X-WR-TIMEZONE:UTC
BEGIN:VTIMEZONE
TZID:UTC
END:VTIMEZONE
BEGIN:VEVENT
UID:37643738-3132-4766-a536-623032366362
DTSTAMP:20260420T164936Z
CATEGORIES:Weekly Meeting
CLASS:PUBLIC
DESCRIPTION;ALTREP="CID:<FFFF__=0ABBE548DFE235B58f9e8a93d@coffeebean.com>":
 Executive Director Billy Love will join us to talk about upcoming program 
 at The Bascom in Highlands.&nbsp\;An arts educator\, and non-profit leader
  Billy has more than 20 years of experience working at the intersection of
  communities\, people\, and learning. His expertise spans organizational l
 eadership\, program development\, fundraising\, and strategic partnerships
 \, ensuring the long-term sustainability and growth of The Bascom. His rol
 es encompass curatorial\, educational\, and outreach initiatives\, allowin
 g the organization to offer robust visual arts programs that support emerg
 ing artists and foster essential creative and visual literacy skills for y
 outh and adults.\nJoin us every first and third Wednesday of the month! Lu
 nch @ 11:30\; Meeting @ 12pm/noon. Our weekly meetings are held every firs
 t and third Wednesday of the month at Cashiers United Methodist Church\, l
 ocated at 894 Highway 107S in Cashiers\, NC. Lunch is served at 11:30am an
 d the meeting begins at 12pm/noon. Visitors are welcome!
DTSTART:20260520T113000Z
DTEND:20260520T113000Z
GEO:00;0
LOCATION:Cashiers UMC
ORGANIZER;CN=:mailto:rotaryclubofcashiersnc@gmail.com
SEQUENCE:1
SUMMARY:The Bascom Center for the Visual Arts
TRANSP:OPAQUE
URL:https://cashiersrotary.org/calendar/208-the-bascom-center-for-the-visua
 l-arts/2026-05-20-11-30
END:VEVENT
END:VCALENDAR
