BEGIN:VCALENDAR
VERSION:2.0
PRODID:-//Rotary Club of Cashiers Valley//NONSGML kigkonsult.se iCalcreator 2.41.92//
CALSCALE:GREGORIAN
METHOD:PUBLISH
UID:61386365-6635-4338-b633-623465383331
X-WR-CALNAME:iCagenda
X-WR-CALDESC:Event Management Extension for Joomla!
X-WR-RELCALID:3E26604A-50F4-4449-8B3E-E4F4932D05B5
X-WR-TIMEZONE:UTC
BEGIN:VTIMEZONE
TZID:UTC
END:VTIMEZONE
BEGIN:VEVENT
UID:36383438-3533-4566-a336-636231306132
DTSTAMP:20260420T163756Z
CATEGORIES:Special Event
CLASS:PUBLIC
DESCRIPTION;ALTREP="CID:<FFFF__=0ABBE548DFE235B58f9e8a93d@coffeebean.com>":
 Get ready for some FUN! Join us for Bingo Night\, the fourth Wednesday of 
 every month from 6-8pm at Slopeside Tavern! Now entering its second year\,
  this monthly event is full of good food\, fun times\, and fundraising! Ev
 eryone is invited\, but space is limited\, so come early for dinner and sa
 ve your spot. Cost to play is $15 per card.\nWe'll also be hosting a weekl
 y Raffle. Tickets are $5 each or 5 for $20. Prizes to be announced!\nPleas
 e note: effective April 2026\, Rotary Bingo has changed to the fourth Wedn
 esday of every month\, instead of the fourth Thursday.
DTSTART:20260520T180000Z
DTEND:20260520T180000Z
GEO:00;0
LOCATION:Slopeside Tavern
ORGANIZER;CN=:mailto:rotaryclubofcashiersnc@gmail.com
SEQUENCE:1
SUMMARY:Bingo Night!
TRANSP:OPAQUE
URL:https://cashiersrotary.org/calendar/205-bingo-night-2/2026-05-20-18-00
END:VEVENT
END:VCALENDAR
